BEGIN:VCALENDAR
VERSION:2.0
PRODID:-//deepDance - ECPv6.15.20//NONSGML v1.0//EN
CALSCALE:GREGORIAN
METHOD:PUBLISH
X-ORIGINAL-URL:https://deepdance.net
X-WR-CALDESC:Veranstaltungen für deepDance
REFRESH-INTERVAL;VALUE=DURATION:PT1H
X-Robots-Tag:noindex
X-PUBLISHED-TTL:PT1H
BEGIN:VTIMEZONE
TZID:Europe/Berlin
BEGIN:DAYLIGHT
TZOFFSETFROM:+0100
TZOFFSETTO:+0200
TZNAME:CEST
DTSTART:20190331T010000
END:DAYLIGHT
BEGIN:STANDARD
TZOFFSETFROM:+0200
TZOFFSETTO:+0100
TZNAME:CET
DTSTART:20191027T010000
END:STANDARD
BEGIN:DAYLIGHT
TZOFFSETFROM:+0100
TZOFFSETTO:+0200
TZNAME:CEST
DTSTART:20200329T010000
END:DAYLIGHT
BEGIN:STANDARD
TZOFFSETFROM:+0200
TZOFFSETTO:+0100
TZNAME:CET
DTSTART:20201025T010000
END:STANDARD
BEGIN:DAYLIGHT
TZOFFSETFROM:+0100
TZOFFSETTO:+0200
TZNAME:CEST
DTSTART:20210328T010000
END:DAYLIGHT
BEGIN:STANDARD
TZOFFSETFROM:+0200
TZOFFSETTO:+0100
TZNAME:CET
DTSTART:20211031T010000
END:STANDARD
END:VTIMEZONE
BEGIN:VEVENT
DTSTART;TZID=Europe/Berlin:20200313T203000
DTEND;TZID=Europe/Berlin:20200315T173000
DTSTAMP:20260421T181816
CREATED:20200128T092830Z
LAST-MODIFIED:20200419T124714Z
UID:445-1584131400-1584293400@deepdance.net
SUMMARY:ERIK IVERSEN – 5Rhythms –  🦉 Discovering the Art of Presence 🦉
DESCRIPTION:ATEMRAUM 								\n				\n				\n				\n									Tanz des Atems 								\n				\n				\n				\n									1\,5 TageabundDance Workshop \n5. – 6. Juni 2026 in München 								\n				\n				\n				\n									von LISA MOSER 								\n				\n				\n				\n									mit Oliver Common 								\n				\n					\n		\n					\n		\n				\n						\n					\n			\n						\n				\n																														\n				\n					\n		\n					\n		\n				\n						\n					\n			\n						\n				\n									\n					\n						\n									Anmeldung Workshop\n					\n					\n				\n								\n				\n					\n		\n					\n		\n				\n						\n					\n			\n						\n				\n									\n					\n						\n									Join WhatsApp • deepDance \n					\n					\n				\n								\n				\n					\n		\n				\n			\n						\n				\n									\n					\n						\n									Join Telegram • deepDance \n					\n					\n				\n								\n				\n					\n		\n					\n		\n				\n						\n					\n			\n						\n				\n									abunDANCE-Workshop \nATEMRAUM \nTanz des Atems \n  \nvon LISA MOSERmit Oliver Common \n5. & 6. Juni 2026 in München \n(Freitag offener Abend) \n  \nAtem und bewusste Bewegung sind sehr direkte Zugänge zu dir selbst. \nWenn du wenig atmest\, wird es eng. Dein Körper macht zu. Du funktionierst mehr. \nWenn du tiefer atmest\, kommt Bewegung rein.Energie.Gefühl.Leben. \nGenau da setzen wir an. \nWir verbinden Atem und Bewegung und so entsteht ein Raum – ein Raum\, in dem Atem und Tanz dich führen. Näher zu dir. \nGezielte Atem-Impulse wie das „Spinal Wave Breathing“ runden diesen wertvollen abunDANCE-Workshop ab.  \n\n Diese fließende Verbindung von Atem und Bewegung kann dir helfen\, Blockaden zu lösen und die im Tanz gewonnene Energie tief in deinem Körper zu verankern. \n\n In abunDANCE üben wir auf dem Tanzboden fürs Leben. \n\n abunDANCE – freies\, intuitives Tanzen \n  \n… Alchemie aus Musik\, Bewegung & Präsenz \n… Poesie des Körpers | Kunst des Augenblicks  \nGut gehalten von der Erde\, weit und offen Richtung Himmel tanzen wir durch verschiedene Qualitäten:  \nVon erdig-gehalten über dynamisch-pulsierend zu poetisch-verspielt und sanft-meditativ. abundance ist das englische Wort für „Fülle“.  \nLisa MoserSoul Motion Lehrerin\, Supervisorin\, Dozentin\, Coach.Jahrelange Erfahrung als 5Rhythmen Spaceholderin – liebt es Veränderung durch Tanz zu ermöglichen und bringt viel Lebendigkeit & tiefes Gehaltensein in den Tanzraum.lisa@abundance.at  –  www.abundance.at Oliver CommonAls 5Rhythms Spaceholder unterstützt er Lisa und hält den Raum mit Warm-ups und Atem-Impulsen\, die es dir ermöglichen können\, tiefer in deine körperliche Präsenz und die Fülle des Augenblicks einzutauchen.  \nBeitrag: \nFrühbucher   bis 09. Mai        € 125 (sponsor € 140) \nVoller Beitrag  ab 10.Mai        € 150 (sponsor € 170) \nNur Freitagabend                   € 25  (ermäßigt € 20)  \n\n Zeiten: \nFr 19.30 – 22.00 \nSa 11.00 – 18.00  \n\n Ort:  \nGrundschule an der Herrnstraße \nHerrnstr. 21\, 80539 München  \n\n Mehr Infos: \nOliver Common \ndance@deepdance.net  \n+49 171 3468708 								\n				\n					\n		\n					\n		\n				\n						\n					\n			\n						\n				\n									\n					\n						\n									Anmeldung Workshop
URL:https://deepdance.net/event/erik-iversen-5rhythms-%f0%9f%a6%89-discovering-the-art-of-presence-%f0%9f%a6%89
LOCATION:Grundschule Herrnstraße\, Herrnstr. 21\, München\, Bayern\, 80539\, Deutschland
CATEGORIES:5 Rhythmen,5 Rhythms,Conscious Dance
ATTACH;FMTTYPE=image/jpeg:https://deepdance.net/wp-content/uploads/2020/01/Discovering-front-e1580208078594.jpg
ORGANIZER;CN="deepDance %E2%9C%AD Oliver Common":MAILTO:dance@deepdance.net
END:VEVENT
END:VCALENDAR